BEGIN:VCALENDAR
VERSION:2.0
PRODID:-//Accueil Loisirs Culture - ECPv6.15.20//NONSGML v1.0//EN
CALSCALE:GREGORIAN
METHOD:PUBLISH
X-WR-CALNAME:Accueil Loisirs Culture
X-ORIGINAL-URL:https://asso-alc.com
X-WR-CALDESC:Évènements pour Accueil Loisirs Culture
REFRESH-INTERVAL;VALUE=DURATION:PT1H
X-Robots-Tag:noindex
X-PUBLISHED-TTL:PT1H
BEGIN:VTIMEZONE
TZID:Europe/Paris
BEGIN:DAYLIGHT
TZOFFSETFROM:+0100
TZOFFSETTO:+0200
TZNAME:CEST
DTSTART:20250330T010000
END:DAYLIGHT
BEGIN:STANDARD
TZOFFSETFROM:+0200
TZOFFSETTO:+0100
TZNAME:CET
DTSTART:20251026T010000
END:STANDARD
BEGIN:DAYLIGHT
TZOFFSETFROM:+0100
TZOFFSETTO:+0200
TZNAME:CEST
DTSTART:20260329T010000
END:DAYLIGHT
BEGIN:STANDARD
TZOFFSETFROM:+0200
TZOFFSETTO:+0100
TZNAME:CET
DTSTART:20261025T010000
END:STANDARD
BEGIN:DAYLIGHT
TZOFFSETFROM:+0100
TZOFFSETTO:+0200
TZNAME:CEST
DTSTART:20270328T010000
END:DAYLIGHT
BEGIN:STANDARD
TZOFFSETFROM:+0200
TZOFFSETTO:+0100
TZNAME:CET
DTSTART:20271031T010000
END:STANDARD
END:VTIMEZONE
BEGIN:VEVENT
DTSTART;TZID=Europe/Paris:20260421T100000
DTEND;TZID=Europe/Paris:20260421T150000
DTSTAMP:20260423T101756
CREATED:20260408T124906Z
LAST-MODIFIED:20260408T125842Z
UID:6687-1776765600-1776783600@asso-alc.com
SUMMARY:Stage - Atelier Dessin Pastels XXL
DESCRIPTION:Mardi 21 avril 10h-15h – Tu as de 7 à 12 ans\, dessine des animaux fantastiques en format Poster avec Loredana  \nEn savoir +++ et Inscription
URL:https://asso-alc.com/event/stage-atelier-dessin-pastels-xxl
LOCATION:Maison des associations Claude Génot\, 45 bis rue de Rambouillet\, Chevreuse\, 78460\, France
ORGANIZER;CN="Accueil Loisirs Culture (ALC) Chevreuse":MAILTO:asso.alc@orange.fr
END:VEVENT
END:VCALENDAR