BEGIN:VCALENDAR
VERSION:2.0
PRODID:-//Accueil Loisirs Culture - ECPv6.15.20//NONSGML v1.0//EN
CALSCALE:GREGORIAN
METHOD:PUBLISH
X-WR-CALNAME:Accueil Loisirs Culture
X-ORIGINAL-URL:https://asso-alc.com
X-WR-CALDESC:Évènements pour Accueil Loisirs Culture
REFRESH-INTERVAL;VALUE=DURATION:PT1H
X-Robots-Tag:noindex
X-PUBLISHED-TTL:PT1H
BEGIN:VTIMEZONE
TZID:Europe/Paris
BEGIN:DAYLIGHT
TZOFFSETFROM:+0100
TZOFFSETTO:+0200
TZNAME:CEST
DTSTART:20250330T010000
END:DAYLIGHT
BEGIN:STANDARD
TZOFFSETFROM:+0200
TZOFFSETTO:+0100
TZNAME:CET
DTSTART:20251026T010000
END:STANDARD
BEGIN:DAYLIGHT
TZOFFSETFROM:+0100
TZOFFSETTO:+0200
TZNAME:CEST
DTSTART:20260329T010000
END:DAYLIGHT
BEGIN:STANDARD
TZOFFSETFROM:+0200
TZOFFSETTO:+0100
TZNAME:CET
DTSTART:20261025T010000
END:STANDARD
BEGIN:DAYLIGHT
TZOFFSETFROM:+0100
TZOFFSETTO:+0200
TZNAME:CEST
DTSTART:20270328T010000
END:DAYLIGHT
BEGIN:STANDARD
TZOFFSETFROM:+0200
TZOFFSETTO:+0100
TZNAME:CET
DTSTART:20271031T010000
END:STANDARD
END:VTIMEZONE
BEGIN:VEVENT
DTSTART;TZID=Europe/Paris:20260422T100000
DTEND;TZID=Europe/Paris:20260422T120000
DTSTAMP:20260422T112106
CREATED:20260408T125455Z
LAST-MODIFIED:20260408T152026Z
UID:6693-1776852000-1776859200@asso-alc.com
SUMMARY:Stage - Atelier Peinture à la manière de Claude Monet
DESCRIPTION:Mercredi 22 avril 10h-12h – Tu as de 7 à 99 ans\, peint la nature à la manière de Claude Monet avec Virginie  \nEn savoir +++ et inscription
URL:https://asso-alc.com/event/stage-atelier-peinture-a-la-maniere-de-claude-monet
LOCATION:Maison des associations Claude Génot\, 45 bis rue de Rambouillet\, Chevreuse\, 78460\, France
ORGANIZER;CN="Accueil Loisirs Culture (ALC) Chevreuse":MAILTO:asso.alc@orange.fr
END:VEVENT
END:VCALENDAR